Workbook

Sheet DATOS
A1: PIPELINE COMERCIAL MMCONECTA 2026 — Modifica los datos aquí · El Dashboard se actualiza automáticamente
A2: PROYECTO | B2: IMPORTE (k€) | C2: FASE | D2: RESPONSABLE | E2: CONSTRUCTORA | F2: INSTALADORA | G2: MARCA PLIEGO | H2: FECHA OFERTA | I2: FECHA EST. ADJ. | J2: PROB. % | K2: PIPELINE POND. k€ | L2: DÍAS SIN MOVER | M2: COMENTARIOS
A3: COMPLEJO INDUS. ARAGON 320 | B3: 100 | C3: Ganado | D3: Carlos | E3: Constructora Norte | F3: Itelec | G3: MM | H3: 46032 | I3: 46157 | J3: 0.35 | K3: =IF(B3="",0,B3*J3) -> 35 | L3: =IF(OR(C3="Ganado",C3="Perdido"),"—",IF(H3="","—",TODAY()-H3)) -> — | M3: Pliego Eficigelec. Pendiente adj. constructora
A4: CUARTEL CUERPO SEGURIDAD NORTE | B4: 80 | C4: Ganado | D4: Miguel | E4: Grupo Obrasur | G4: Competidor L / OBO | H4: 46037 | I4: 46142 | J4: 0.3 | K4: =IF(B4="",0,B4*J4) -> 24 | L4: =IF(OR(C4="Ganado",C4="Perdido"),"—",IF(H4="","—",TODAY()-H4)) -> — | M4: OBBO suelo y Competidor L pared
A5: AGENCIA TRIBUTARIA LEVANTE | B5: 55 | C5: Ganado | D5: David | E5: contriu | F5: Almacenelec | G5: MM | H5: 45962 | I5: 46054 | J5: 1 | K5: =IF(B5="",0,B5*J5) -> 55 | L5: =IF(OR(C5="Ganado",C5="Perdido"),"—",IF(H5="","—",TODAY()-H5)) -> — | M5: 1600 cajas. Para después de verano
A6: HOSPITAL CENTRAL NORTE | B6: 105 | C6: En estudio | D6: Carlos | F6: Sumiconex | J6: 0.2 | K6: =IF(B6="",0,B6*J6) -> 21 | L6: =IF(OR(C6="Ganado",C6="Perdido"),"—",IF(H6="","—",TODAY()-H6)) -> —
A7: SEDE ENERGAL | B7: 150 | C7: Ganado | D7: Carlos | F7: Itelec | G7: MM | H7: 45931 | I7: 46037 | J7: 1 | K7: =IF(B7="",0,B7*J7) -> 150 | L7: =IF(OR(C7="Ganado",C7="Perdido"),"—",IF(H7="","—",TODAY()-H7)) -> — | M7: Salimos en pliegos. Adjudicado
A8: ED. ADMIN. CASTELLANA 120 | B8: 45 | C8: Ofertado | D8: Miguel | F8: Villa Instalaciones | G8: Competidor S | H8: 46054 | I8: 46174 | J8: 0.4 | K8: =IF(B8="",0,B8*J8) -> 18 | L8: =IF(OR(C8="Ganado",C8="Perdido"),"—",IF(H8="","—",TODAY()-H8)) -> 75
A9: HOSPITAL CLINICO NORTE | B9: 35 | C9: Ofertado | D9: Miguel | E9: Construvial | F9: Electrosur | H9: 46042 | I9: 46172 | J9: 0.25 | K9: =IF(B9="",0,B9*J9) -> 8.75 | L9: =IF(OR(C9="Ganado",C9="Perdido"),"—",IF(H9="","—",TODAY()-H9)) -> 87 | M9: Varios instaladores
A10: CENTRO PREMIUM BRANDEX | B10: 105 | C10: Ganado | D10: Miguel | E10: Edimark Const. | F10: Telecable | G10: MM / Competidor S | H10: 45901 | I10: 46082 | J10: 1 | K10: =IF(B10="",0,B10*J10) -> 105 | L10: =IF(OR(C10="Ganado",C10="Perdido"),"—",IF(H10="","—",TODAY()-H10)) -> — | M10: Cambio marcas por precios
A11: ARCHIVO HISTORICO NORTE | B11: 20 | C11: Ofertado | D11: Miguel | E11: Edimark Const. | F11: Almacenelec | H11: 46063 | I11: 46266 | J11: 0.2 | K11: =IF(B11="",0,B11*J11) -> 4 | L11: =IF(OR(C11="Ganado",C11="Perdido"),"—",IF(H11="","—",TODAY()-H11)) -> 66 | M11: Va para largo
A12: CENTRO TECNICO SUR | B12: 50 | C12: Ofertado | D12: David | F12: Redinstall | H12: 46047 | I12: 46143 | J12: 0.35 | K12: =IF(B12="",0,B12*J12) -> 17.5 | L12: =IF(OR(C12="Ganado",C12="Perdido"),"—",IF(H12="","—",TODAY()-H12)) -> 82
A13: NUEVO EDIF. ADMIN. CATALUÑA | B13: 20 | C13: Ofertado | D13: Laura | F13: Distroelec | H13: 46058 | I13: 46188 | J13: 0.3 | K13: =IF(B13="",0,B13*J13) -> 6 | L13: =IF(OR(C13="Ganado",C13="Perdido"),"—",IF(H13="","—",TODAY()-H13)) -> 71 | M13: Adj. según Laura
A14: HOSPITAL COMARCAL INTERIOR | C14: Ganado | D14: Miguel | E14: Itelec | F14: Electrosur | G14: Competidor S | H14: 45992 | I14: 46068 | J14: 1 | K14: =IF(B14="",0,B14*J14) -> 0 | L14: =IF(OR(C14="Ganado",C14="Perdido"),"—",IF(H14="","—",TODAY()-H14)) -> — | M14: Simon en pliegos. Eleko contacto dist.
A15: OFICINAS ASEGURADISA PSO. RECOLETOS | B15: 105 | C15: Ofertado | D15: Miguel | F15: Electrosur | G15: Marca Premium W | H15: 46037 | I15: 46157 | J15: 0.25 | K15: =IF(B15="",0,B15*J15) -> 26.25 | L15: =IF(OR(C15="Ganado",C15="Perdido"),"—",IF(H15="","—",TODAY()-H15)) -> 92 | M15: Perdimos Edif. Watson contra Wieland
A16: EDIF. ADMIN. SEVILLA AV. CONSTITUCION | B16: 20 | C16: Ofertado | D16: Miguel | E16: Constructora Norte | F16: Berdín | G16: Competidor S | H16: 46054 | I16: 46174 | J16: 0.3 | K16: =IF(B16="",0,B16*J16) -> 6 | L16: =IF(OR(C16="Ganado",C16="Perdido"),"—",IF(H16="","—",TODAY()-H16)) -> 75 | M16: Pendiente adjudicar constructora
A17: MUTUA NORTE ALCALA | B17: 40 | C17: Ofertado | D17: Miguel | F17: TEI / Electroluz / Electrosur | G17: MM | H17: 46042 | I17: 46142 | J17: 0.45 | K17: =IF(B17="",0,B17*J17) -> 18 | L17: =IF(OR(C17="Ganado",C17="Perdido"),"—",IF(H17="","—",TODAY()-H17)) -> 87 | M17: MM gama standard + conectores Marca B
A18: CENTRO EMERGENCIAS 112 CASTILLA | B18: 40 | C18: Ofertado | D18: Carlos | E18: Guarcoel | H18: 46068 | I18: 46174 | J18: 0.3 | K18: =IF(B18="",0,B18*J18) -> 12 | L18: =IF(OR(C18="Ganado",C18="Perdido"),"—",IF(H18="","—",TODAY()-H18)) -> 61
A19: VELAZQUEZ NORTE 34 | B19: 40 | C19: Ofertado | D19: Miguel | F19: Gestionelec | H19: 46032 | I19: 46143 | J19: 0.35 | K19: =IF(B19="",0,B19*J19) -> 14 | L19: =IF(OR(C19="Ganado",C19="Perdido"),"—",IF(H19="","—",TODAY()-H19)) -> 97
A20: HOSPITAL REGIONAL SUR | B20: 155 | C20: Ofertado | D20: Miguel | F20: Itelec / Cronelec / Electrosur | H20: 46027 | I20: 46188 | J20: 0.3 | K20: =IF(B20="",0,B20*J20) -> 46.5 | L20: =IF(OR(C20="Ganado",C20="Perdido"),"—",IF(H20="","—",TODAY()-H20)) -> 102 | M20: Sin marcas en pliegos
A21: PROYECTO OMEGA | B21: 20 | C21: Ofertado | D21: Miguel | F21: Conexelec | H21: 46054 | I21: 46143 | J21: 0.35 | K21: =IF(B21="",0,B21*J21) -> 7 | L21: =IF(OR(C21="Ganado",C21="Perdido"),"—",IF(H21="","—",TODAY()-H21)) -> 75 | M21: Rosetas
A22: JUZGADOS CORREDOR HENARES | B22: 15 | C22: Ofertado | D22: Miguel | F22: Itelec | H22: 46047 | I22: 46127 | J22: 0.4 | K22: =IF(B22="",0,B22*J22) -> 6 | L22: =IF(OR(C22="Ganado",C22="Perdido"),"—",IF(H22="","—",TODAY()-H22)) -> 82
A23: ORGANISMO SEGURIDAD NACIONAL | B23: 62 | C23: Ofertado | D23: Miguel | F23: Itelec / Construvial / Redinstall | H23: 46063 | I23: 46204 | J23: 0.25 | K23: =IF(B23="",0,B23*J23) -> 15.5 | L23: =IF(OR(C23="Ganado",C23="Perdido"),"—",IF(H23="","—",TODAY()-H23)) -> 66 | M23: Varias sedes
A24: ESTADIO DEPORTIVO OESTE | B24: 30 | C24: Ofertado | D24: Carlos | F24: Redmaq | H24: 46037 | I24: 46157 | J24: 0.35 | K24: =IF(B24="",0,B24*J24) -> 10.5 | L24: =IF(OR(C24="Ganado",C24="Perdido"),"—",IF(H24="","—",TODAY()-H24)) -> 92
A25: LOGISTICO TEXTIL LEVANTE | B25: 15 | C25: Ofertado | D25: Miguel | E25: Distroelec Toledo | H25: 46054 | I25: 46143 | J25: 0.3 | K25: =IF(B25="",0,B25*J25) -> 4.5 | L25: =IF(OR(C25="Ganado",C25="Perdido"),"—",IF(H25="","—",TODAY()-H25)) -> 75
A26: HOSPITAL MATERNO EXTREMADURA | B26: 20 | C26: Ofertado | D26: David | E26: Grupo Obrasur | F26: Inseconsa | H26: 46042 | I26: 46174 | J26: 0.25 | K26: =IF(B26="",0,B26*J26) -> 5 | L26: =IF(OR(C26="Ganado",C26="Perdido"),"—",IF(H26="","—",TODAY()-H26)) -> 87 | M26: Sin marcas. Enchufes con piloto
A27: HOSPITAL PROV. EXTREMADURA F2 | B27: 65 | C27: Ofertado | D27: Carlos | E27: Edificar S.A. | F27: Itelec / Grupo Obrasur | H27: 46032 | I27: 46204 | J27: 0.3 | K27: =IF(B27="",0,B27*J27) -> 19.5 | L27: =IF(OR(C27="Ganado",C27="Perdido"),"—",IF(H27="","—",TODAY()-H27)) -> 97
A28: UNIVERSIDAD PRIVADA SUR MALAGA | B28: 55 | C28: Ganado | D28: Miguel | E28: Edimark | F28: SEI Montajes | G28: MM | H28: 45962 | I28: 46054 | J28: 1 | K28: =IF(B28="",0,B28*J28) -> 55 | L28: =IF(OR(C28="Ganado",C28="Perdido"),"—",IF(H28="","—",TODAY()-H28)) -> — | M28: Hablando con Almacenelec
A29: IES LITORAL LEVANTE | B29: 20 | C29: Ofertado | D29: David | E29: Buildex | F29: Almacenelec SUR | G29: Competidor L | H29: 46058 | I29: 46174 | J29: 0.25 | K29: =IF(B29="",0,B29*J29) -> 5 | L29: =IF(OR(C29="Ganado",C29="Perdido"),"—",IF(H29="","—",TODAY()-H29)) -> 71 | M29: Competidor L en pliegos
A30: CIUDAD JUSTICIA MADRID LOTE 1 | B30: 140 | C30: Ofertado | D30: Alex | E30: Avance/Terval/Arcoval | F30: Electrosur / Distroelec | H30: 46037 | I30: 46218 | J30: 0.3 | K30: =IF(B30="",0,B30*J30) -> 42 | L30: =IF(OR(C30="Ganado",C30="Perdido"),"—",IF(H30="","—",TODAY()-H30)) -> 92 | M30: CIMA en pliegos tipo hospital
A31: CIUDAD JUSTICIA MADRID LOTE 2 | B31: 340 | C31: Ofertado | D31: Carlos | E31: Edificar/Cimsa | F31: Cronelec / Orion Inst. | H31: 46037 | I31: 46235 | J31: 0.25 | K31: =IF(B31="",0,B31*J31) -> 85 | L31: =IF(OR(C31="Ganado",C31="Perdido"),"—",IF(H31="","—",TODAY()-H31)) -> 92 | M31: Pliego raro. JG Ingenieros
A32: CENTRO SANITARIO EDIF. K | B32: 34 | C32: Ofertado | D32: Carlos | F32: Sumiferr / Viales Inst. / Electrosur | G32: Competidor SH | H32: 46054 | I32: 46174 | J32: 0.3 | K32: =IF(B32="",0,B32*J32) -> 10.2 | L32: =IF(OR(C32="Ganado",C32="Perdido"),"—",IF(H32="","—",TODAY()-H32)) -> 75 | M32: Enchufes con piloto
A33: INSTALACIONES DEFENSA NORTE | B33: 20 | C33: Ofertado | D33: David | H33: 46042 | I33: 46143 | J33: 0.2 | K33: =IF(B33="",0,B33*J33) -> 4 | L33: =IF(OR(C33="Ganado",C33="Perdido"),"—",IF(H33="","—",TODAY()-H33)) -> 87 | M33: Sin pliegos
A34: NUEVA SEDE DEPORTIVA LEVANTE | B34: 86 | C34: Ofertado | D34: Carlos | F34: Almacenelec Albacete | H34: 46054 | I34: 46204 | J34: 0.35 | K34: =IF(B34="",0,B34*J34) -> 30.1 | L34: =IF(OR(C34="Ganado",C34="Perdido"),"—",IF(H34="","—",TODAY()-H34)) -> 75
A35: LABORATORIO INVESTIGACION PUBLICA | B35: 21 | C35: Ofertado | D35: David | F35: Sumibox | H35: 46047 | I35: 46157 | J35: 0.3 | K35: =IF(B35="",0,B35*J35) -> 6.3 | L35: =IF(OR(C35="Ganado",C35="Perdido"),"—",IF(H35="","—",TODAY()-H35)) -> 82
A36: EDIF. OFICINAS COMPLEJO DEPORTIVO | B36: 15 | C36: Ofertado | D36: Miguel | E36: Grupo Obrasur Industrial | F36: TEI | H36: 46063 | I36: 46143 | J36: 0.25 | K36: =IF(B36="",0,B36*J36) -> 3.75 | L36: =IF(OR(C36="Ganado",C36="Perdido"),"—",IF(H36="","—",TODAY()-H36)) -> 66
A37: RED FERROVIARIA NORTE CANTABRICO | B37: 32 | C37: Ofertado | D37: David | E37: Comsa / Edimark / Constructora Norte | H37: 46037 | I37: 46174 | J37: 0.3 | K37: =IF(B37="",0,B37*J37) -> 9.6 | L37: =IF(OR(C37="Ganado",C37="Perdido"),"—",IF(H37="","—",TODAY()-H37)) -> 92
A38: SEDE ENERGAR FASE 2 | B38: 99 | C38: Ofertado | D38: Miguel | F38: Electrosur / Nortelec / Estructel | H38: 46054 | I38: 46204 | J38: 0.35 | K38: =IF(B38="",0,B38*J38) -> 34.65 | L38: =IF(OR(C38="Ganado",C38="Perdido"),"—",IF(H38="","—",TODAY()-H38)) -> 75
A39: SEDE MUNICIPIO ISLAS | B39: 44 | C39: Ofertado | D39: David | F39: Distroelec Tenerife | H39: 46042 | I39: 46174 | J39: 0.3 | K39: =IF(B39="",0,B39*J39) -> 13.2 | L39: =IF(OR(C39="Ganado",C39="Perdido"),"—",IF(H39="","—",TODAY()-H39)) -> 87
A40: PLANTA INDUSTRIAL PORTUGAL | B40: 34 | C40: Ofertado | D40: Elena | F40: Nexodata | H40: 46058 | I40: 46188 | J40: 0.25 | K40: =IF(B40="",0,B40*J40) -> 8.5 | L40: =IF(OR(C40="Ganado",C40="Perdido"),"—",IF(H40="","—",TODAY()-H40)) -> 71
A41: UNIVERSIDAD PRIVADA NORTE | B41: 18 | C41: Ofertado | D41: David | F41: Instamad | H41: 46047 | I41: 46143 | J41: 0.35 | K41: =IF(B41="",0,B41*J41) -> 6.3 | L41: =IF(OR(C41="Ganado",C41="Perdido"),"—",IF(H41="","—",TODAY()-H41)) -> 82
A42: TECHGLOBAL LA FINCA | B42: 32 | C42: Ofertado | D42: David | F42: Redmaq / TEI | H42: 46054 | I42: 46157 | J42: 0.4 | K42: =IF(B42="",0,B42*J42) -> 12.8 | L42: =IF(OR(C42="Ganado",C42="Perdido"),"—",IF(H42="","—",TODAY()-H42)) -> 75
A43: CADENA HOSTELERIA NACIONAL | B43: 22 | C43: Ofertado | D43: David | E43: Orion Inst. | H43: 46037 | I43: 46143 | J43: 0.3 | K43: =IF(B43="",0,B43*J43) -> 6.6 | L43: =IF(OR(C43="Ganado",C43="Perdido"),"—",IF(H43="","—",TODAY()-H43)) -> 92
A44: ORGANISMO COMERCIO EXTERIOR | B44: 35 | C44: Ofertado | D44: Carlos | F44: Einsal | H44: 46063 | I44: 46174 | J44: 0.35 | K44: =IF(B44="",0,B44*J44) -> 12.25 | L44: =IF(OR(C44="Ganado",C44="Perdido"),"—",IF(H44="","—",TODAY()-H44)) -> 66
A45: FINTECH NORTE LEON | B45: 23 | C45: Ofertado | D45: Carlos | F45: Guarcoel | H45: 46042 | I45: 46157 | J45: 0.3 | K45: =IF(B45="",0,B45*J45) -> 6.9 | L45: =IF(OR(C45="Ganado",C45="Perdido"),"—",IF(H45="","—",TODAY()-H45)) -> 87
A46: AMPLIACION JUZGADOS EXTREMADURA | B46: 18 | C46: Ofertado | D46: David | E46: Grupo Constructivo CV | H46: 46054 | I46: 46143 | J46: 0.25 | K46: =IF(B46="",0,B46*J46) -> 4.5 | L46: =IF(OR(C46="Ganado",C46="Perdido"),"—",IF(H46="","—",TODAY()-H46)) -> 75
A47: OFICINAS FERROVIARIAS AV. AMERICA 4 | B47: 25 | C47: Ofertado | D47: David | F47: Telecable | H47: 46047 | I47: 46174 | J47: 0.3 | K47: =IF(B47="",0,B47*J47) -> 7.5 | L47: =IF(OR(C47="Ganado",C47="Perdido"),"—",IF(H47="","—",TODAY()-H47)) -> 82
A48: DEPORTE RETAIL GETAFE | B48: 10 | C48: Perdido | D48: Alex | E48: Nortelec | G48: Competidor C | H48: 45809 | I48: 45901 | J48: 0 | K48: =IF(B48="",0,B48*J48) -> 0 | L48: =IF(OR(C48="Ganado",C48="Perdido"),"—",IF(H48="","—",TODAY()-H48)) -> — | M48: Cambiaron a minicolumnas doble cara
A49: BIBLIOTECA REGIONAL SEGOVIA | B49: 7 | C49: Perdido | D49: Carlos | E49: Constructora Isolux | G49: MM / Competidor C | H49: 45778 | I49: 45870 | J49: 0 | K49: =IF(B49="",0,B49*J49) -> 0 | L49: =IF(OR(C49="Ganado",C49="Perdido"),"—",IF(H49="","—",TODAY()-H49)) -> — | M49: Prescrito. Pusieron Competidor C
A50: SEGURIDAD SOCIAL DONOSTIA | B50: 15 | C50: Perdido | D50: Miguel | E50: Grupo Obrasur Ind. | G50: Competidor S | H50: 45748 | I50: 45839 | J50: 0 | K50: =IF(B50="",0,B50*J50) -> 0 | L50: =IF(OR(C50="Ganado",C50="Perdido"),"—",IF(H50="","—",TODAY()-H50)) -> — | M50: Necesitaban caja max 5cm. Pusieron Competidor C
A51: TOTAL / MEDIA | B51: =SUMIF(C3:C50,"<>Perdido",B3:B50) -> 2505 | J51: =AVERAGEIF(C3:C50,"Ofertado",J3:J50) -> 0.30540541 | K51: =SUM(K3:K50) -> 999.15

Sheet DASHBOARD
A1: DASHBOARD PIPELINE — MMCONECTA 2026 | Se actualiza automáticamente al cambiar datos en hoja DATOS
C3: PIPELINE TOTAL (k€) | E3: PIPELINE POND. (k€) | G3: Nº OFERTADOS | I3: Nº GANADOS | K3: Nº PERDIDOS | M3: TASA CONV. % | O3: PROB. MEDIA OFERTADOS
C4: =SUMIF(DATOS!C3:C50,"<>Perdido",DATOS!B3:B50) -> 2505 | E4: =SUM(DATOS!K3:K50) -> 999.15 | G4: =COUNTIF(DATOS!C3:C50,"Ofertado") -> 37 | I4: =COUNTIF(DATOS!C3:C50,"Ganado") -> 7 | K4: =COUNTIF(DATOS!C3:C50,"Perdido") -> 3 | M4: =IFERROR(COUNTIF(DATOS!C3:C50,"Ganado")/(COUNTIF(DATOS!C3:C50,"Ganado")+COUNTIF(DATOS!C3:C50,"Perdido")),0) -> 0.7 | O4: =AVERAGEIF(DATOS!C3:C50,"Ofertado",DATOS!J3:J50) -> 0.30540541
B6: 📊 PIPELINE POR RESPONSABLE | I6: 📊 PIPELINE POR FASE
B7: RESPONSABLE | C7: OFERTADOS (k€) | D7: GANADOS (k€) | E7: PERDIDOS (k€) | F7: Nº OFERT. | G7: PIPELINE POND. | I7: FASE | J7: Nº PROYECTOS | K7: IMPORTE TOTAL (k€) | L7: PIPELINE POND. (k€) | M7: % SOBRE TOTAL
B8: Carlos | C8: =SUMPRODUCT((DATOS!D3:D50=B8)*(DATOS!C3:C50="Ofertado")*(DATOS!B3:B50)) -> 653 | D8: =SUMPRODUCT((DATOS!D3:D50=B8)*(DATOS!C3:C50="Ganado")*(DATOS!B3:B50)) -> 250 | E8: =SUMPRODUCT((DATOS!D3:D50=B8)*(DATOS!C3:C50="Perdido")*(DATOS!B3:B50)) -> 7 | F8: =COUNTIFS(DATOS!D3:D50,B8,DATOS!C3:C50,"Ofertado") -> 8 | G8: =SUMPRODUCT((DATOS!D3:D50=B8)*(DATOS!K3:K50)) -> 392.45 | I8: En estudio | J8: =COUNTIF(DATOS!C3:C50,I8) -> 1 | K8: =SUMIF(DATOS!C3:C50,I8,DATOS!B3:B50) -> 105 | L8: =SUMPRODUCT((DATOS!C3:C50=I8)*DATOS!K3:K50) -> 21 | M8: =IFERROR(K8/SUM(K$8:K$12),0) -> 0.041387466
B9: Miguel | C9: =SUMPRODUCT((DATOS!D3:D50=B9)*(DATOS!C3:C50="Ofertado")*(DATOS!B3:B50)) -> 686 | D9: =SUMPRODUCT((DATOS!D3:D50=B9)*(DATOS!C3:C50="Ganado")*(DATOS!B3:B50)) -> 240 | E9: =SUMPRODUCT((DATOS!D3:D50=B9)*(DATOS!C3:C50="Perdido")*(DATOS!B3:B50)) -> 15 | F9: =COUNTIFS(DATOS!D3:D50,B9,DATOS!C3:C50,"Ofertado") -> 14 | G9: =SUMPRODUCT((DATOS!D3:D50=B9)*(DATOS!K3:K50)) -> 396.9 | I9: Ofertado | J9: =COUNTIF(DATOS!C3:C50,I9) -> 37 | K9: =SUMIF(DATOS!C3:C50,I9,DATOS!B3:B50) -> 1855 | L9: =SUMPRODUCT((DATOS!C3:C50=I9)*DATOS!K3:K50) -> 554.15 | M9: =IFERROR(K9/SUM(K$8:K$12),0) -> 0.73117856
B10: David | C10: =SUMPRODUCT((DATOS!D3:D50=B10)*(DATOS!C3:C50="Ofertado")*(DATOS!B3:B50)) -> 322 | D10: =SUMPRODUCT((DATOS!D3:D50=B10)*(DATOS!C3:C50="Ganado")*(DATOS!B3:B50)) -> 55 | E10: =SUMPRODUCT((DATOS!D3:D50=B10)*(DATOS!C3:C50="Perdido")*(DATOS!B3:B50)) -> 0 | F10: =COUNTIFS(DATOS!D3:D50,B10,DATOS!C3:C50,"Ofertado") -> 12 | G10: =SUMPRODUCT((DATOS!D3:D50=B10)*(DATOS!K3:K50)) -> 153.3 | I10: Adjudicado | J10: =COUNTIF(DATOS!C3:C50,I10) -> 0 | K10: =SUMIF(DATOS!C3:C50,I10,DATOS!B3:B50) -> 0 | L10: =SUMPRODUCT((DATOS!C3:C50=I10)*DATOS!K3:K50) -> 0 | M10: =IFERROR(K10/SUM(K$8:K$12),0) -> 0
B11: Elena | C11: =SUMPRODUCT((DATOS!D3:D50=B11)*(DATOS!C3:C50="Ofertado")*(DATOS!B3:B50)) -> 34 | D11: =SUMPRODUCT((DATOS!D3:D50=B11)*(DATOS!C3:C50="Ganado")*(DATOS!B3:B50)) -> 0 | E11: =SUMPRODUCT((DATOS!D3:D50=B11)*(DATOS!C3:C50="Perdido")*(DATOS!B3:B50)) -> 0 | F11: =COUNTIFS(DATOS!D3:D50,B11,DATOS!C3:C50,"Ofertado") -> 1 | G11: =SUMPRODUCT((DATOS!D3:D50=B11)*(DATOS!K3:K50)) -> 8.5 | I11: Ganado | J11: =COUNTIF(DATOS!C3:C50,I11) -> 7 | K11: =SUMIF(DATOS!C3:C50,I11,DATOS!B3:B50) -> 545 | L11: =SUMPRODUCT((DATOS!C3:C50=I11)*DATOS!K3:K50) -> 424 | M11: =IFERROR(K11/SUM(K$8:K$12),0) -> 0.21482065
B12: Laura | C12: =SUMPRODUCT((DATOS!D3:D50=B12)*(DATOS!C3:C50="Ofertado")*(DATOS!B3:B50)) -> 20 | D12: =SUMPRODUCT((DATOS!D3:D50=B12)*(DATOS!C3:C50="Ganado")*(DATOS!B3:B50)) -> 0 | E12: =SUMPRODUCT((DATOS!D3:D50=B12)*(DATOS!C3:C50="Perdido")*(DATOS!B3:B50)) -> 0 | F12: =COUNTIFS(DATOS!D3:D50,B12,DATOS!C3:C50,"Ofertado") -> 1 | G12: =SUMPRODUCT((DATOS!D3:D50=B12)*(DATOS!K3:K50)) -> 6 | I12: Perdido | J12: =COUNTIF(DATOS!C3:C50,I12) -> 3 | K12: =SUMIF(DATOS!C3:C50,I12,DATOS!B3:B50) -> 32 | L12: =SUMPRODUCT((DATOS!C3:C50=I12)*DATOS!K3:K50) -> 0 | M12: =IFERROR(K12/SUM(K$8:K$12),0) -> 0.012613323
B13: Javier | C13: =SUMPRODUCT((DATOS!D3:D50=B13)*(DATOS!C3:C50="Ofertado")*(DATOS!B3:B50)) -> 0 | D13: =SUMPRODUCT((DATOS!D3:D50=B13)*(DATOS!C3:C50="Ganado")*(DATOS!B3:B50)) -> 0 | E13: =SUMPRODUCT((DATOS!D3:D50=B13)*(DATOS!C3:C50="Perdido")*(DATOS!B3:B50)) -> 0 | F13: =COUNTIFS(DATOS!D3:D50,B13,DATOS!C3:C50,"Ofertado") -> 0 | G13: =SUMPRODUCT((DATOS!D3:D50=B13)*(DATOS!K3:K50)) -> 0 | I13: TOTAL | J13: =SUM(J8:J12) -> 48 | K13: =SUM(K8:K12) -> 2537 | L13: =SUM(L8:L12) -> 999.15 | M13: =SUM(M8:M12) -> 1
B14: Alex | C14: =SUMPRODUCT((DATOS!D3:D50=B14)*(DATOS!C3:C50="Ofertado")*(DATOS!B3:B50)) -> 140 | D14: =SUMPRODUCT((DATOS!D3:D50=B14)*(DATOS!C3:C50="Ganado")*(DATOS!B3:B50)) -> 0 | E14: =SUMPRODUCT((DATOS!D3:D50=B14)*(DATOS!C3:C50="Perdido")*(DATOS!B3:B50)) -> 10 | F14: =COUNTIFS(DATOS!D3:D50,B14,DATOS!C3:C50,"Ofertado") -> 1 | G14: =SUMPRODUCT((DATOS!D3:D50=B14)*(DATOS!K3:K50)) -> 42
B15: Sergio | C15: =SUMPRODUCT((DATOS!D3:D50=B15)*(DATOS!C3:C50="Ofertado")*(DATOS!B3:B50)) -> 0 | D15: =SUMPRODUCT((DATOS!D3:D50=B15)*(DATOS!C3:C50="Ganado")*(DATOS!B3:B50)) -> 0 | E15: =SUMPRODUCT((DATOS!D3:D50=B15)*(DATOS!C3:C50="Perdido")*(DATOS!B3:B50)) -> 0 | F15: =COUNTIFS(DATOS!D3:D50,B15,DATOS!C3:C50,"Ofertado") -> 0 | G15: =SUMPRODUCT((DATOS!D3:D50=B15)*(DATOS!K3:K50)) -> 0
B16: Pablo | C16: =SUMPRODUCT((DATOS!D3:D50=B16)*(DATOS!C3:C50="Ofertado")*(DATOS!B3:B50)) -> 0 | D16: =SUMPRODUCT((DATOS!D3:D50=B16)*(DATOS!C3:C50="Ganado")*(DATOS!B3:B50)) -> 0 | E16: =SUMPRODUCT((DATOS!D3:D50=B16)*(DATOS!C3:C50="Perdido")*(DATOS!B3:B50)) -> 0 | F16: =COUNTIFS(DATOS!D3:D50,B16,DATOS!C3:C50,"Ofertado") -> 0 | G16: =SUMPRODUCT((DATOS!D3:D50=B16)*(DATOS!K3:K50)) -> 0
B17: TOTAL | C17: =SUM(C8:C16) -> 1855 | D17: =SUM(D8:D16) -> 545 | E17: =SUM(E8:E16) -> 32 | F17: =SUM(F8:F16) -> 37 | G17: =SUM(G8:G16) -> 999.15
B19: 🏆 TOP 10 PROYECTOS POR IMPORTE (ofertados) | I19: ⚠️ PROYECTOS SIN MOVER +60 DÍAS
B20: PROYECTO | C20: IMPORTE (k€) | D20: FASE | E20: RESP. | F20: PROB. | I20: PROYECTO | J20: DÍAS SIN MOVER | K20: IMPORTE (k€) | L20: RESP. | M20: COMENTARIO
B21: =IFERROR(INDEX(DATOS!A3:A50,MATCH(C21,IF(DATOS!C3:C50="Ofertado",DATOS!B3:B50),0)),"") -> CIUDAD JUSTICIA MADRID LOTE 2 | C21: =IFERROR(LARGE(IF(DATOS!C3:C50="Ofertado",DATOS!B3:B50),1),"") -> 340 | D21: =IFERROR(INDEX(DATOS!C3:C50,MATCH(C21,IF(DATOS!C3:C50="Ofertado",DATOS!B3:B50),0)),"") -> Ofertado | E21: =IFERROR(INDEX(DATOS!D3:D50,MATCH(C21,IF(DATOS!C3:C50="Ofertado",DATOS!B3:B50),0)),"") -> Carlos | F21: =IFERROR(INDEX(DATOS!J3:J50,MATCH(C21,IF(DATOS!C3:C50="Ofertado",DATOS!B3:B50),0)),"") -> 0.25 | I21: =IFERROR(INDEX(DATOS!A3:A50,MATCH(J21,IF((DATOS!C3:C50="Ofertado")*ISNUMBER(DATOS!L3:L50),DATOS!L3:L50),0)),"") -> HOSPITAL REGIONAL SUR | J21: =IFERROR(LARGE(IF((DATOS!C3:C50="Ofertado")*ISNUMBER(DATOS!L3:L50),DATOS!L3:L50),1),"") -> 102 | K21: =IFERROR(INDEX(DATOS!B3:B50,MATCH(J21,IF((DATOS!C3:C50="Ofertado")*ISNUMBER(DATOS!L3:L50),DATOS!L3:L50),0)),"") -> 155 | L21: =IFERROR(INDEX(DATOS!D3:D50,MATCH(J21,IF((DATOS!C3:C50="Ofertado")*ISNUMBER(DATOS!L3:L50),DATOS!L3:L50),0)),"") -> Miguel | M21: =IFERROR(INDEX(DATOS!M3:M50,MATCH(J21,IF((DATOS!C3:C50="Ofertado")*ISNUMBER(DATOS!L3:L50),DATOS!L3:L50),0)),"") -> Sin marcas en pliegos
B22: =IFERROR(INDEX(DATOS!A3:A50,MATCH(C22,IF(DATOS!C3:C50="Ofertado",DATOS!B3:B50),0)),"") -> HOSPITAL REGIONAL SUR | C22: =IFERROR(LARGE(IF(DATOS!C3:C50="Ofertado",DATOS!B3:B50),2),"") -> 155 | D22: =IFERROR(INDEX(DATOS!C3:C50,MATCH(C22,IF(DATOS!C3:C50="Ofertado",DATOS!B3:B50),0)),"") -> Ofertado | E22: =IFERROR(INDEX(DATOS!D3:D50,MATCH(C22,IF(DATOS!C3:C50="Ofertado",DATOS!B3:B50),0)),"") -> Miguel | F22: =IFERROR(INDEX(DATOS!J3:J50,MATCH(C22,IF(DATOS!C3:C50="Ofertado",DATOS!B3:B50),0)),"") -> 0.3 | I22: =IFERROR(INDEX(DATOS!A3:A50,MATCH(J22,IF((DATOS!C3:C50="Ofertado")*ISNUMBER(DATOS!L3:L50),DATOS!L3:L50),0)),"") -> VELAZQUEZ NORTE 34 | J22: =IFERROR(LARGE(IF((DATOS!C3:C50="Ofertado")*ISNUMBER(DATOS!L3:L50),DATOS!L3:L50),2),"") -> 97 | K22: =IFERROR(INDEX(DATOS!B3:B50,MATCH(J22,IF((DATOS!C3:C50="Ofertado")*ISNUMBER(DATOS!L3:L50),DATOS!L3:L50),0)),"") -> 40 | L22: =IFERROR(INDEX(DATOS!D3:D50,MATCH(J22,IF((DATOS!C3:C50="Ofertado")*ISNUMBER(DATOS!L3:L50),DATOS!L3:L50),0)),"") -> Miguel | M22: =IFERROR(INDEX(DATOS!M3:M50,MATCH(J22,IF((DATOS!C3:C50="Ofertado")*ISNUMBER(DATOS!L3:L50),DATOS!L3:L50),0)),"") -> 0
B23: =IFERROR(INDEX(DATOS!A3:A50,MATCH(C23,IF(DATOS!C3:C50="Ofertado",DATOS!B3:B50),0)),"") -> SEDE ENERGAL | C23: =IFERROR(LARGE(IF(DATOS!C3:C50="Ofertado",DATOS!B3:B50),3),"") -> 150 | D23: =IFERROR(INDEX(DATOS!C3:C50,MATCH(C23,IF(DATOS!C3:C50="Ofertado",DATOS!B3:B50),0)),"") -> Ganado | E23: =IFERROR(INDEX(DATOS!D3:D50,MATCH(C23,IF(DATOS!C3:C50="Ofertado",DATOS!B3:B50),0)),"") -> Carlos | F23: =IFERROR(INDEX(DATOS!J3:J50,MATCH(C23,IF(DATOS!C3:C50="Ofertado",DATOS!B3:B50),0)),"") -> 1 | I23: =IFERROR(INDEX(DATOS!A3:A50,MATCH(J23,IF((DATOS!C3:C50="Ofertado")*ISNUMBER(DATOS!L3:L50),DATOS!L3:L50),0)),"") -> VELAZQUEZ NORTE 34 | J23: =IFERROR(LARGE(IF((DATOS!C3:C50="Ofertado")*ISNUMBER(DATOS!L3:L50),DATOS!L3:L50),3),"") -> 97 | K23: =IFERROR(INDEX(DATOS!B3:B50,MATCH(J23,IF((DATOS!C3:C50="Ofertado")*ISNUMBER(DATOS!L3:L50),DATOS!L3:L50),0)),"") -> 40 | L23: =IFERROR(INDEX(DATOS!D3:D50,MATCH(J23,IF((DATOS!C3:C50="Ofertado")*ISNUMBER(DATOS!L3:L50),DATOS!L3:L50),0)),"") -> Miguel | M23: =IFERROR(INDEX(DATOS!M3:M50,MATCH(J23,IF((DATOS!C3:C50="Ofertado")*ISNUMBER(DATOS!L3:L50),DATOS!L3:L50),0)),"") -> 0
B24: =IFERROR(INDEX(DATOS!A3:A50,MATCH(C24,IF(DATOS!C3:C50="Ofertado",DATOS!B3:B50),0)),"") -> CIUDAD JUSTICIA MADRID LOTE 1 | C24: =IFERROR(LARGE(IF(DATOS!C3:C50="Ofertado",DATOS!B3:B50),4),"") -> 140 | D24: =IFERROR(INDEX(DATOS!C3:C50,MATCH(C24,IF(DATOS!C3:C50="Ofertado",DATOS!B3:B50),0)),"") -> Ofertado | E24: =IFERROR(INDEX(DATOS!D3:D50,MATCH(C24,IF(DATOS!C3:C50="Ofertado",DATOS!B3:B50),0)),"") -> Alex | F24: =IFERROR(INDEX(DATOS!J3:J50,MATCH(C24,IF(DATOS!C3:C50="Ofertado",DATOS!B3:B50),0)),"") -> 0.3 | I24: =IFERROR(INDEX(DATOS!A3:A50,MATCH(J24,IF((DATOS!C3:C50="Ofertado")*ISNUMBER(DATOS!L3:L50),DATOS!L3:L50),0)),"") -> OFICINAS ASEGURADISA PSO. RECOLETOS | J24: =IFERROR(LARGE(IF((DATOS!C3:C50="Ofertado")*ISNUMBER(DATOS!L3:L50),DATOS!L3:L50),4),"") -> 92 | K24: =IFERROR(INDEX(DATOS!B3:B50,MATCH(J24,IF((DATOS!C3:C50="Ofertado")*ISNUMBER(DATOS!L3:L50),DATOS!L3:L50),0)),"") -> 105 | L24: =IFERROR(INDEX(DATOS!D3:D50,MATCH(J24,IF((DATOS!C3:C50="Ofertado")*ISNUMBER(DATOS!L3:L50),DATOS!L3:L50),0)),"") -> Miguel | M24: =IFERROR(INDEX(DATOS!M3:M50,MATCH(J24,IF((DATOS!C3:C50="Ofertado")*ISNUMBER(DATOS!L3:L50),DATOS!L3:L50),0)),"") -> Perdimos Edif. Watson contra Wieland
B25: =IFERROR(INDEX(DATOS!A3:A50,MATCH(C25,IF(DATOS!C3:C50="Ofertado",DATOS!B3:B50),0)),"") -> HOSPITAL CENTRAL NORTE | C25: =IFERROR(LARGE(IF(DATOS!C3:C50="Ofertado",DATOS!B3:B50),5),"") -> 105 | D25: =IFERROR(INDEX(DATOS!C3:C50,MATCH(C25,IF(DATOS!C3:C50="Ofertado",DATOS!B3:B50),0)),"") -> En estudio | E25: =IFERROR(INDEX(DATOS!D3:D50,MATCH(C25,IF(DATOS!C3:C50="Ofertado",DATOS!B3:B50),0)),"") -> Carlos | F25: =IFERROR(INDEX(DATOS!J3:J50,MATCH(C25,IF(DATOS!C3:C50="Ofertado",DATOS!B3:B50),0)),"") -> 0.2 | I25: =IFERROR(INDEX(DATOS!A3:A50,MATCH(J25,IF((DATOS!C3:C50="Ofertado")*ISNUMBER(DATOS!L3:L50),DATOS!L3:L50),0)),"") -> OFICINAS ASEGURADISA PSO. RECOLETOS | J25: =IFERROR(LARGE(IF((DATOS!C3:C50="Ofertado")*ISNUMBER(DATOS!L3:L50),DATOS!L3:L50),5),"") -> 92 | K25: =IFERROR(INDEX(DATOS!B3:B50,MATCH(J25,IF((DATOS!C3:C50="Ofertado")*ISNUMBER(DATOS!L3:L50),DATOS!L3:L50),0)),"") -> 105 | L25: =IFERROR(INDEX(DATOS!D3:D50,MATCH(J25,IF((DATOS!C3:C50="Ofertado")*ISNUMBER(DATOS!L3:L50),DATOS!L3:L50),0)),"") -> Miguel | M25: =IFERROR(INDEX(DATOS!M3:M50,MATCH(J25,IF((DATOS!C3:C50="Ofertado")*ISNUMBER(DATOS!L3:L50),DATOS!L3:L50),0)),"") -> Perdimos Edif. Watson contra Wieland
B26: =IFERROR(INDEX(DATOS!A3:A50,MATCH(C26,IF(DATOS!C3:C50="Ofertado",DATOS!B3:B50),0)),"") -> HOSPITAL CENTRAL NORTE | C26: =IFERROR(LARGE(IF(DATOS!C3:C50="Ofertado",DATOS!B3:B50),6),"") -> 105 | D26: =IFERROR(INDEX(DATOS!C3:C50,MATCH(C26,IF(DATOS!C3:C50="Ofertado",DATOS!B3:B50),0)),"") -> En estudio | E26: =IFERROR(INDEX(DATOS!D3:D50,MATCH(C26,IF(DATOS!C3:C50="Ofertado",DATOS!B3:B50),0)),"") -> Carlos | F26: =IFERROR(INDEX(DATOS!J3:J50,MATCH(C26,IF(DATOS!C3:C50="Ofertado",DATOS!B3:B50),0)),"") -> 0.2 | I26: =IFERROR(INDEX(DATOS!A3:A50,MATCH(J26,IF((DATOS!C3:C50="Ofertado")*ISNUMBER(DATOS!L3:L50),DATOS!L3:L50),0)),"") -> OFICINAS ASEGURADISA PSO. RECOLETOS | J26: =IFERROR(LARGE(IF((DATOS!C3:C50="Ofertado")*ISNUMBER(DATOS!L3:L50),DATOS!L3:L50),6),"") -> 92 | K26: =IFERROR(INDEX(DATOS!B3:B50,MATCH(J26,IF((DATOS!C3:C50="Ofertado")*ISNUMBER(DATOS!L3:L50),DATOS!L3:L50),0)),"") -> 105 | L26: =IFERROR(INDEX(DATOS!D3:D50,MATCH(J26,IF((DATOS!C3:C50="Ofertado")*ISNUMBER(DATOS!L3:L50),DATOS!L3:L50),0)),"") -> Miguel | M26: =IFERROR(INDEX(DATOS!M3:M50,MATCH(J26,IF((DATOS!C3:C50="Ofertado")*ISNUMBER(DATOS!L3:L50),DATOS!L3:L50),0)),"") -> Perdimos Edif. Watson contra Wieland
B27: =IFERROR(INDEX(DATOS!A3:A50,MATCH(C27,IF(DATOS!C3:C50="Ofertado",DATOS!B3:B50),0)),"") -> HOSPITAL CENTRAL NORTE | C27: =IFERROR(LARGE(IF(DATOS!C3:C50="Ofertado",DATOS!B3:B50),7),"") -> 105 | D27: =IFERROR(INDEX(DATOS!C3:C50,MATCH(C27,IF(DATOS!C3:C50="Ofertado",DATOS!B3:B50),0)),"") -> En estudio | E27: =IFERROR(INDEX(DATOS!D3:D50,MATCH(C27,IF(DATOS!C3:C50="Ofertado",DATOS!B3:B50),0)),"") -> Carlos | F27: =IFERROR(INDEX(DATOS!J3:J50,MATCH(C27,IF(DATOS!C3:C50="Ofertado",DATOS!B3:B50),0)),"") -> 0.2 | I27: =IFERROR(INDEX(DATOS!A3:A50,MATCH(J27,IF((DATOS!C3:C50="Ofertado")*ISNUMBER(DATOS!L3:L50),DATOS!L3:L50),0)),"") -> OFICINAS ASEGURADISA PSO. RECOLETOS | J27: =IFERROR(LARGE(IF((DATOS!C3:C50="Ofertado")*ISNUMBER(DATOS!L3:L50),DATOS!L3:L50),7),"") -> 92 | K27: =IFERROR(INDEX(DATOS!B3:B50,MATCH(J27,IF((DATOS!C3:C50="Ofertado")*ISNUMBER(DATOS!L3:L50),DATOS!L3:L50),0)),"") -> 105 | L27: =IFERROR(INDEX(DATOS!D3:D50,MATCH(J27,IF((DATOS!C3:C50="Ofertado")*ISNUMBER(DATOS!L3:L50),DATOS!L3:L50),0)),"") -> Miguel | M27: =IFERROR(INDEX(DATOS!M3:M50,MATCH(J27,IF((DATOS!C3:C50="Ofertado")*ISNUMBER(DATOS!L3:L50),DATOS!L3:L50),0)),"") -> Perdimos Edif. Watson contra Wieland
B28: =IFERROR(INDEX(DATOS!A3:A50,MATCH(C28,IF(DATOS!C3:C50="Ofertado",DATOS!B3:B50),0)),"") | C28: =IFERROR(LARGE(IF(DATOS!C3:C50="Ofertado",DATOS!B3:B50),8),"") | D28: =IFERROR(INDEX(DATOS!C3:C50,MATCH(C28,IF(DATOS!C3:C50="Ofertado",DATOS!B3:B50),0)),"") | E28: =IFERROR(INDEX(DATOS!D3:D50,MATCH(C28,IF(DATOS!C3:C50="Ofertado",DATOS!B3:B50),0)),"") | F28: =IFERROR(INDEX(DATOS!J3:J50,MATCH(C28,IF(DATOS!C3:C50="Ofertado",DATOS!B3:B50),0)),"") | I28: =IFERROR(INDEX(DATOS!A3:A50,MATCH(J28,IF((DATOS!C3:C50="Ofertado")*ISNUMBER(DATOS!L3:L50),DATOS!L3:L50),0)),"") | J28: =IFERROR(LARGE(IF((DATOS!C3:C50="Ofertado")*ISNUMBER(DATOS!L3:L50),DATOS!L3:L50),8),"") | K28: =IFERROR(INDEX(DATOS!B3:B50,MATCH(J28,IF((DATOS!C3:C50="Ofertado")*ISNUMBER(DATOS!L3:L50),DATOS!L3:L50),0)),"") | L28: =IFERROR(INDEX(DATOS!D3:D50,MATCH(J28,IF((DATOS!C3:C50="Ofertado")*ISNUMBER(DATOS!L3:L50),DATOS!L3:L50),0)),"") | M28: =IFERROR(INDEX(DATOS!M3:M50,MATCH(J28,IF((DATOS!C3:C50="Ofertado")*ISNUMBER(DATOS!L3:L50),DATOS!L3:L50),0)),"")
B29: =IFERROR(INDEX(DATOS!A3:A50,MATCH(C29,IF(DATOS!C3:C50="Ofertado",DATOS!B3:B50),0)),"") -> SEDE ENERGAR FASE 2 | C29: =IFERROR(LARGE(IF(DATOS!C3:C50="Ofertado",DATOS!B3:B50),9),"") -> 99 | D29: =IFERROR(INDEX(DATOS!C3:C50,MATCH(C29,IF(DATOS!C3:C50="Ofertado",DATOS!B3:B50),0)),"") -> Ofertado | E29: =IFERROR(INDEX(DATOS!D3:D50,MATCH(C29,IF(DATOS!C3:C50="Ofertado",DATOS!B3:B50),0)),"") -> Miguel | F29: =IFERROR(INDEX(DATOS!J3:J50,MATCH(C29,IF(DATOS!C3:C50="Ofertado",DATOS!B3:B50),0)),"") -> 0.35
B30: =IFERROR(INDEX(DATOS!A3:A50,MATCH(C30,IF(DATOS!C3:C50="Ofertado",DATOS!B3:B50),0)),"") -> NUEVA SEDE DEPORTIVA LEVANTE | C30: =IFERROR(LARGE(IF(DATOS!C3:C50="Ofertado",DATOS!B3:B50),10),"") -> 86 | D30: =IFERROR(INDEX(DATOS!C3:C50,MATCH(C30,IF(DATOS!C3:C50="Ofertado",DATOS!B3:B50),0)),"") -> Ofertado | E30: =IFERROR(INDEX(DATOS!D3:D50,MATCH(C30,IF(DATOS!C3:C50="Ofertado",DATOS!B3:B50),0)),"") -> Carlos | F30: =IFERROR(INDEX(DATOS!J3:J50,MATCH(C30,IF(DATOS!C3:C50="Ofertado",DATOS!B3:B50),0)),"") -> 0.35
B33: 💡 CÓMO USAR: Edita cualquier dato en la hoja 📋 DATOS → Vuelve aquí → El dashboard se actualiza solo. Pulsa Ctrl+Alt+F9 si los datos no se refrescan.

Sheet INSTRUCCIONES
B1: CÓMO USAR ESTE ARCHIVO
B3: 📋 HOJA DATOS — Aquí introduces y editas todos los proyectos. Cada fila = un proyecto.
B4: PROYECTO: Nombre del proyecto. Escribe libremente.
B5: IMPORTE (k€): Importe en miles de euros. Solo números.
B6: FASE: Desplegable: En estudio / Ofertado / Adjudicado / Ganado / Perdido
B7: RESPONSABLE: Desplegable con los nombres del equipo.
B8: CONSTRUCTORA / INSTALADORA: Empresa constructora e instaladora eléctrica.
B9: MARCA PLIEGO: Qué marca de competencia sale especificada en el pliego.
B10: FECHA OFERTA / FECHA EST. ADJ.: Fechas en formato DD/MM/AAAA.
B11: PROB. %: Probabilidad de ganar: escribe 0.35 para 35%, 1 para 100%.
B12: PIPELINE POND. k€: Se calcula solo: Importe × Probabilidad.
B13: DÍAS SIN MOVER: Se calcula solo: días desde la fecha de oferta. Rojo si >60 días.
... B25: COPIAR FÓRMULAS: Las columnas K y L tienen fórmulas — cópialas hacia abajo al añadir filas.
